BEGIN:VCALENDAR
VERSION:2.0
PRODID:-//ChamberMaster//Event Calendar 2.0//EN
METHOD:PUBLISH
X-PUBLISHED-TTL:P3D
REFRESH-INTERVAL:P3D
CALSCALE:GREGORIAN
BEGIN:VEVENT
DTSTART:20140327T214500Z
DTEND:20140327T234500Z
X-MICROSOFT-CDO-ALLDAYEVENT:FALSE
SUMMARY:Multi-Chamber After Hours
DESCRIPTION:A joint wine tasting event with the MetroNorth & White Bear Chambers. Hors d'oeuvres included. Limited to the first 30 people from each chamber.
X-ALT-DESC;FMTTYPE=text/html:<span style="font-size:12px\;"><span style="font-family: tahoma\;">A joint wine tasting event with the MetroNorth &amp\; White Bear Chambers. Hors d&#39\;oeuvres included. Limited to the first 30 people from each chamber.</span></span>
LOCATION:Tria 5959 Centerville Rd North Oaks\, MN 55127
UID:e.380.150072
SEQUENCE:3
DTSTAMP:20260424T062005Z
URL:http://members.metronorthchamber.org/events/details/multi-chamber-after-hours-03-27-2014-150072
END:VEVENT

END:VCALENDAR
