BEGIN:VCALENDAR
VERSION:2.0
PRODID:-//ChamberMaster//Event Calendar 2.0//EN
METHOD:PUBLISH
X-PUBLISHED-TTL:P3D
REFRESH-INTERVAL:P3D
CALSCALE:GREGORIAN
BEGIN:VEVENT
DTSTART:20160813T150000Z
DTEND:20160813T170000Z
X-MICROSOFT-CDO-ALLDAYEVENT:FALSE
SUMMARY:Muffins & Makeovers
DESCRIPTION:Join me for a special edition of\n\n\n\n"Muffins & Makeovers"\n\n\n\nComplimentary facial\, spa hand treatment\, glamour makeover\, new product demos\, free gift for all attendees and muffins!\n\n\n\nSpace is limited\, Please RSVP to Amy by 5pm\, Friday\, August 12th
X-ALT-DESC;FMTTYPE=text/html:<div style="text-align:center"><span style="background-color:rgb(250\, 250\, 250)\; color:rgb(66\, 66\, 66)\; font-family:arial\,helvetica\,sans-serif\; font-size:12px">Join me for a special edition of</span><br />\n<br />\n<span style="color:#ff6699"><span style="background-color:rgb(250\, 250\, 250)\; font-family:arial\,helvetica\,sans-serif\; font-size:12px"><strong><span style="font-size:20px">&quot\;Muffins &amp\; Makeovers&quot\;</span></strong></span></span><br />\n<br />\n<span style="background-color:rgb(250\, 250\, 250)\; color:rgb(66\, 66\, 66)\; font-family:arial\,helvetica\,sans-serif\; font-size:12px">Complimentary facial\, spa hand treatment\, glamour makeover\, new product demos\, free gift for all attendees and muffins!</span><br />\n<br />\n<span style="background-color:rgb(250\, 250\, 250)\; color:rgb(66\, 66\, 66)\; font-family:arial\,helvetica\,sans-serif\; font-size:12px">Space is limited\,&nbsp\;</span><span style="background-color:rgb(250\, 250\, 250)\; color:rgb(66\, 66\, 66)\; font-family:arial\,helvetica\,sans-serif\; font-size:12px">Please RSVP to Amy by 5pm\, Friday\, August 12th</span></div>\n
LOCATION:Studio Pink 1274 Helmo Avenue North Oakdale\, MN 55128
UID:e.380.169118
SEQUENCE:3
DTSTAMP:20260422T070243Z
URL:http://members.metronorthchamber.org/events/details/muffins-makeovers-08-13-2016-169118
END:VEVENT

END:VCALENDAR
