BEGIN:VCALENDAR
VERSION:2.0
PRODID:-//ChamberMaster//Event Calendar 2.0//EN
METHOD:PUBLISH
X-PUBLISHED-TTL:P3D
REFRESH-INTERVAL:P3D
CALSCALE:GREGORIAN
BEGIN:VEVENT
DTSTART:20130828T180000Z
DTEND:20130828T223000Z
X-MICROSOFT-CDO-ALLDAYEVENT:FALSE
SUMMARY:MSB Small Business Expo
DESCRIPTION:Stop by the Minnesota School of Business Blaine Campus for our Small Business Expo Wednesday\, August 28!
X-ALT-DESC;FMTTYPE=text/html:<br />\nStop by the Minnesota School of Business Blaine Campus for our Small Business Expo Wednesday\, August 28!
LOCATION:Minnesota School of Business Blaine Campus 3680 Pheasant Ridge Drive NE Blaine\, MN 55449
UID:e.380.149477
SEQUENCE:3
DTSTAMP:20260424T175627Z
URL:http://members.metronorthchamber.org/events/details/msb-small-business-expo-08-28-2013-149477
END:VEVENT

END:VCALENDAR
