BEGIN:VCALENDAR
VERSION:2.0
PRODID:-//ChamberMaster//Event Calendar 2.0//EN
METHOD:PUBLISH
X-PUBLISHED-TTL:P3D
REFRESH-INTERVAL:P3D
CALSCALE:GREGORIAN
BEGIN:VEVENT
DTSTART:20180908T011500Z
DTEND:20180908T030000Z
X-MICROSOFT-CDO-ALLDAYEVENT:FALSE
SUMMARY:Movies in the Park - Coco
DESCRIPTION:Bring your family\, friends\, and lawn chairs to experience a movie at Elmcrest Park. Arrive before sunset to enjoy music and concessions for sale. The movie will start soon after the sun is low in the sky. The movie playing will be Coco\, rated PG. In Disney/Pixar's vibrant tale of family\, fun and adventure\, aspiring young musician named Miguel embarks on an extraordinary journey to the magical land of his ancestors. There\, the charming trickster Hector becomes an unexpected friend who helps Miguel uncover the mysteries behind his family's stories and traditions.
X-ALT-DESC;FMTTYPE=text/html:<span style="color: rgb(51\, 51\, 51)\; font-family: Arial\; font-size: 14.4px\; background-color: rgb(255\, 255\, 255)\;">Bring your family\, friends\, and lawn chairs to experience a movie at Elmcrest Park. Arrive before sunset to enjoy music and concessions for sale. The movie will start soon after the sun is low in the sky. The movie playing will be Coco\, rated PG. In Disney/Pixar&rsquo\;s vibrant tale of family\, fun and adventure\, aspiring young musician named Miguel embarks on an extraordinary journey to the magical land of his ancestors. There\, the charming trickster Hector becomes an unexpected friend who helps Miguel uncover the mysteries behind his family&rsquo\;s stories and traditions.</span>
LOCATION:Date: September 7\, 2018 Time: 8:15 PM - 10:00 PM Location: View Facility Elmcrest Park Address: 16303 Quicksilver Street NW Ramsey\, MN 55303 Contact: 763-576-4309 Email: Email Tillery Bailey with questions. Link: Register with Eventbrite.
UID:e.380.184884
SEQUENCE:3
DTSTAMP:20260420T152550Z
URL:http://members.metronorthchamber.org/events/details/movies-in-the-park-coco-184884
END:VEVENT

END:VCALENDAR
