BEGIN:VCALENDAR
VERSION:2.0
PRODID:-//ChamberMaster//Event Calendar 2.0//EN
METHOD:PUBLISH
X-PUBLISHED-TTL:P3D
REFRESH-INTERVAL:P3D
CALSCALE:GREGORIAN
BEGIN:VEVENT
DTSTART:20190512T003000Z
DTEND:20190512T030000Z
X-MICROSOFT-CDO-ALLDAYEVENT:FALSE
SUMMARY:Movie Night - The Incredibles
DESCRIPTION:Kids that are in kindergarten and older are invited to watch a movie on our big screen projector\, have popcorn and open gym time.
X-ALT-DESC;FMTTYPE=text/html:Kids that are in kindergarten and older are invited to watch a movie on our big screen projector\, have popcorn and open gym time.
LOCATION:1460 133rd Lane NE\, Ham Lake
UID:e.380.188934
SEQUENCE:3
DTSTAMP:20260420T023245Z
URL:http://members.metronorthchamber.org/events/details/movie-night-the-incredibles-188934
END:VEVENT

END:VCALENDAR
