BEGIN:VCALENDAR
VERSION:2.0
PRODID:-//ChamberMaster//Event Calendar 2.0//EN
METHOD:PUBLISH
X-PUBLISHED-TTL:P3D
REFRESH-INTERVAL:P3D
CALSCALE:GREGORIAN
BEGIN:VEVENT
DTSTART:20191228T003000Z
DTEND:20191228T030000Z
X-MICROSOFT-CDO-ALLDAYEVENT:FALSE
SUMMARY:Movie Night - The Grinch (2018 Version)
DESCRIPTION:Come watch The Grinch on our big screen projector and have a snack and open gym.
X-ALT-DESC;FMTTYPE=text/html:Come watch The Grinch on our big screen projector and have a snack and open gym.
LOCATION:1460 133rd Lane NE\, Ham Lake
UID:e.380.191723
SEQUENCE:3
DTSTAMP:20260419T142608Z
URL:http://members.metronorthchamber.org/events/details/movie-night-the-grinch-2018-version-191723
END:VEVENT

END:VCALENDAR
