BEGIN:VCALENDAR
VERSION:2.0
PRODID:-//ChamberMaster//Event Calendar 2.0//EN
METHOD:PUBLISH
X-PUBLISHED-TTL:P3D
REFRESH-INTERVAL:P3D
CALSCALE:GREGORIAN
BEGIN:VEVENT
DTSTART:20191013T003000Z
DTEND:20191013T030000Z
X-MICROSOFT-CDO-ALLDAYEVENT:FALSE
SUMMARY:Movie Night - Small Foot
DESCRIPTION:Children will watch the movie on our big screen projector. We will also serve popcorn and juice and have open gym! Bring a blanket and pillow for movie time.
X-ALT-DESC;FMTTYPE=text/html:Children will watch the movie on our big screen projector. We will also serve popcorn and juice and have open gym! Bring a blanket and pillow for movie time.
LOCATION:1460 133rd Lane\, NE Ham Lake
UID:e.380.191429
SEQUENCE:3
DTSTAMP:20260419T193414Z
URL:http://members.metronorthchamber.org/events/details/movie-night-small-foot-191429
END:VEVENT

END:VCALENDAR
