BEGIN:VCALENDAR
VERSION:2.0
PRODID:-//ChamberMaster//Event Calendar 2.0//EN
METHOD:PUBLISH
X-PUBLISHED-TTL:P3D
REFRESH-INTERVAL:P3D
CALSCALE:GREGORIAN
BEGIN:VEVENT
DTSTART:20190224T013000Z
DTEND:20190224T040000Z
X-MICROSOFT-CDO-ALLDAYEVENT:FALSE
SUMMARY:Movie Night - Paddington 2
DESCRIPTION:Watch a movie on our big screen projector and have open gym time.
X-ALT-DESC;FMTTYPE=text/html:Watch a movie on our big screen projector and have open gym time.
LOCATION:Jam Hops\, 1460 133rd Lane NE\, Ham Lake
UID:e.380.188362
SEQUENCE:3
DTSTAMP:20260420T074216Z
URL:http://members.metronorthchamber.org/events/details/movie-night-paddington-2-188362
END:VEVENT

END:VCALENDAR
