BEGIN:VCALENDAR
VERSION:2.0
PRODID:-//ChamberMaster//Event Calendar 2.0//EN
METHOD:PUBLISH
X-PUBLISHED-TTL:P3D
REFRESH-INTERVAL:P3D
CALSCALE:GREGORIAN
BEGIN:VEVENT
DTSTART:20190414T003000Z
DTEND:20190414T030000Z
X-MICROSOFT-CDO-ALLDAYEVENT:FALSE
SUMMARY:Movie Night - Finding Dory
DESCRIPTION:Kids can watch Finding Dory on our big screen\, have popcorn and open gym time.
X-ALT-DESC;FMTTYPE=text/html:Kids can watch Finding Dory on our big screen\, have popcorn and open gym time.
LOCATION:1460 133rd Lane NE\, Ham Lake
UID:e.380.188850
SEQUENCE:3
DTSTAMP:20260420T055028Z
URL:http://members.metronorthchamber.org/events/details/movie-night-finding-dory-188850
END:VEVENT

END:VCALENDAR
