BEGIN:VCALENDAR
VERSION:2.0
PRODID:-//ChamberMaster//Event Calendar 2.0//EN
METHOD:PUBLISH
X-PUBLISHED-TTL:P3D
REFRESH-INTERVAL:P3D
CALSCALE:GREGORIAN
BEGIN:VEVENT
DTSTART:20190922T003000Z
DTEND:20190922T030000Z
X-MICROSOFT-CDO-ALLDAYEVENT:FALSE
SUMMARY:Movie Night - Descendants 3
DESCRIPTION:Children will watch the movie on our big screen projector. We will also serve popcorn and juice and have open gym! Bring a blanket and pillow for movie time.
X-ALT-DESC;FMTTYPE=text/html:Children will watch the movie on our big screen projector. We will also serve popcorn and juice and have open gym! Bring a blanket and pillow for movie time.
LOCATION:1460 133rd Lane NE\, Ham Lake
UID:e.380.191167
SEQUENCE:3
DTSTAMP:20260419T213202Z
URL:http://members.metronorthchamber.org/events/details/movie-night-descendants-3-191167
END:VEVENT

END:VCALENDAR
