BEGIN:VCALENDAR
VERSION:2.0
PRODID:-//ChamberMaster//Event Calendar 2.0//EN
METHOD:PUBLISH
X-PUBLISHED-TTL:P3D
REFRESH-INTERVAL:P3D
CALSCALE:GREGORIAN
BEGIN:VEVENT
DTSTART:20190324T003000Z
DTEND:20190324T030000Z
X-MICROSOFT-CDO-ALLDAYEVENT:FALSE
SUMMARY:Movie Night - Cars
DESCRIPTION:Come watch "Cars" on our big screen\, have popcorn and then open gym time!
X-ALT-DESC;FMTTYPE=text/html:Come watch &quot\;Cars&quot\; on our big screen\, have popcorn and then open gym time!
LOCATION:1460 133rd Lane NE\, Ham Lake
UID:e.380.188473
SEQUENCE:3
DTSTAMP:20260420T060758Z
URL:http://members.metronorthchamber.org/events/details/movie-night-cars-03-23-2019-188473
END:VEVENT

END:VCALENDAR
