BEGIN:VCALENDAR
VERSION:2.0
PRODID:-//ChamberMaster//Event Calendar 2.0//EN
METHOD:PUBLISH
X-PUBLISHED-TTL:P3D
REFRESH-INTERVAL:P3D
CALSCALE:GREGORIAN
BEGIN:VEVENT
DTSTART:20140523T230000Z
DTEND:20140524T033000Z
X-MICROSOFT-CDO-ALLDAYEVENT:FALSE
SUMMARY:Movie in the Park
DESCRIPTION:Kick off summer by enjoying a night of free family-friendly entertainment\n\n\n\nDo not miss out on this summer's first Movie in the Park event at Sand Creek Park! The City of Coon Rapids and Coon Rapids Community Strength Foundation are proud to sponsor Movie in the Park on Friday\, May 23.\n\n\n\nThis is an opportunity to enjoy a beautiful evening outdoors with the whole family! The featured movie for this event is Disney's Frozen (sing along version). Bring your kids and sing along to one of this year's most popular movies!\n\n\n\nStarting at 6:00 p.m.\, inflatable bouncers and other activities will be available for a small fee. Free face painting will also be available. Concession stand will be operated by the North Star Lions Club.\n\n\n\nBring a blanket or lawn chair and enjoy this FREE movie!
X-ALT-DESC;FMTTYPE=text/html:<br />\n<em>Kick off summer by enjoying a night of free family-friendly entertainment</em><br />\n<br />\nDo not miss out on this summer&rsquo\;s first Movie in the Park event at Sand Creek Park! The City of Coon Rapids and Coon Rapids Community Strength Foundation are proud to sponsor Movie in the Park on Friday\, May 23.<br />\n<br />\nThis is an opportunity to enjoy a beautiful evening outdoors with the whole family! The featured movie for this event is Disney&rsquo\;s Frozen (sing along version). Bring your kids and sing along to one of this year&rsquo\;s most popular movies!<br />\n<br />\nStarting at 6:00 p.m.\, inflatable bouncers and other activities will be available for a small fee. Free face painting will also be available. Concession stand will be operated by the North Star Lions Club.<br />\n<br />\nBring a blanket or lawn chair and enjoy this FREE movie!<br />\n<br />\n&nbsp\;
LOCATION:Sand Creek Park\, Softball Field 2 1008 Northdale Blvd. Coon Rapids\, MN 55433
UID:e.380.151336
SEQUENCE:3
DTSTAMP:20260424T031024Z
URL:http://members.metronorthchamber.org/events/details/movie-in-the-park-05-23-2014-151336
END:VEVENT

END:VCALENDAR
