BEGIN:VCALENDAR
VERSION:2.0
PRODID:-//ChamberMaster//Event Calendar 2.0//EN
METHOD:PUBLISH
X-PUBLISHED-TTL:P3D
REFRESH-INTERVAL:P3D
CALSCALE:GREGORIAN
BEGIN:VEVENT
DTSTART:20151213T193000Z
DTEND:20151213T213000Z
X-MICROSOFT-CDO-ALLDAYEVENT:FALSE
SUMMARY:Movie"His Neighbor Phil"
DESCRIPTION:Sunday-December 13th  (1:30pm and 6:00pm) MOVIE-"His Neighbor Phil" Free event open to the public\n\nHi Neighbor Phil is the story of Harvey\, a man whose wife (Mary) has early onset Alzheimer's disease.\n\nThe film shows the effects of the disease not only on Mary but also the entire family and their community.  While the film deals honestly with the realities of the disease\, it focuses mist if its attention on the tireless work of caregivers.\n\n \n\nAfter the movie \, discussion  with Lori La Bey founder of  Alzheimer's Speaks and in addition\, Violin music provided by:   Hilary Fredenburg with Alliance Music Therapy
X-ALT-DESC;FMTTYPE=text/html:<div><span style="font-size:16px"><span style="font-size:11pt"><strong>Sunday-December 13</strong></span><strong><sup>th</sup></strong><span style="font-size:11pt">&nbsp\;&ndash\;(1:30pm and 6:00pm) MOVIE-&ldquo\;</span><span style="font-size:11pt"><u>His Neighbor Phil&rdquo\;</u></span><span style="font-size:11pt">&nbsp\;Free event open to the public</span></span></div>\n\n<div><span style="font-size:16px"><span style="font-size:11pt"><em>Hi Neighbor Phil is the story of Harvey\, a man whose wife (Mary) has early onset Alzheimer&rsquo\;s disease.</em></span></span></div>\n\n<div><span style="font-size:16px"><span style="font-size:11pt"><em>The film shows the effects of the disease not only on Mary but also the entire family and their community. &nbsp\;</em></span></span><em style="font-size:11pt\; line-height:1.6">While the film deals honestly with the realities of the disease\, it focuses mist if its attention on the tireless work of caregivers.</em></div>\n\n<div>&nbsp\;</div>\n\n<div><span style="font-size:16px"><span style="font-size:11pt">After the movie \, discussion&nbsp\; with Lori La&nbsp\;Bey&nbsp\;founder of&nbsp\;&nbsp\;Alzheimer&#39\;s&nbsp\;Speaks and in addition\, Violin music provided by:&nbsp\; &nbsp\;Hilary&nbsp\;Fredenburg&nbsp\;with Alliance Music Therapy</span></span></div>\n
LOCATION:Autumn Glen Senior Living\, 3715 Coon Rapids Blvd.\, Coon Rapids\, MN 55433
UID:e.380.159880
SEQUENCE:3
DTSTAMP:20260422T211021Z
URL:http://members.metronorthchamber.org/events/details/movie-his-neighbor-phil-12-13-2015-159880
END:VEVENT

END:VCALENDAR
