BEGIN:VCALENDAR
VERSION:2.0
PRODID:-//ChamberMaster//Event Calendar 2.0//EN
METHOD:PUBLISH
X-PUBLISHED-TTL:P3D
REFRESH-INTERVAL:P3D
CALSCALE:GREGORIAN
BEGIN:VEVENT
DTSTART:20140620T160000Z
DTEND:20140620T170000Z
X-MICROSOFT-CDO-ALLDAYEVENT:FALSE
SUMMARY:Mounds View Square Ribbon Cutting Ceremony for Anytime Fitness
DESCRIPTION:A ribbon cutting ceremony will be held for Anytime Fitness in Mounds View Square on Friday\, June 20 at 11 a.m. in celebration of the fitness center's recent renovations.\n\n						 \n\n						Complimentary cake and refreshments will be provided at the grand re-opening celebration.
X-ALT-DESC;FMTTYPE=text/html:<table class="maintable" style="border-collapse: collapse\; margin-top: 0px\; margin-right: auto\; margin-bottom: 0px\; margin-left: auto\; padding-top: 0px\; padding-right: 0px\; padding-bottom: 0px\; padding-left: 0px\; border-top-style: none\; border-right-style: none\; border-bottom-style: none\; border-left-style: none\; border-width: initial\; border-color: initial\; background-image: initial\; background-attachment: initial\; background-origin: initial\; background-clip: initial\; background-color: white\; background-position: initial initial\; background-repeat: initial initial\; ">\n	<tbody>\n		<tr>\n			<td style="font-size: 12px\; font-family: Arial\, helvetica\, 'MS san-serif'\; color: rgb(51\, 51\, 51)\; vertical-align: top\; margin-top: 0px\; margin-right: 0px\; margin-bottom: 0px\; margin-left: 0px\; padding-top: 0px\; padding-right: 0px\; padding-bottom: 0px\; padding-left: 0px\; text-align: left\; " valign="top">\n			<table class="cleartable" style="border-collapse: collapse\; padding-top: 0px\; padding-right: 0px\; padding-bottom: 0px\; padding-left: 0px\; margin-top: 10px\; margin-right: 0px\; margin-bottom: 0px\; margin-left: 10px\; ">\n				<tbody>\n					<tr>\n						<td style="font-size: 12px\; font-family: Arial\, helvetica\, 'MS san-serif'\; color: rgb(51\, 51\, 51)\; vertical-align: top\; margin-top: 0px\; margin-right: 0px\; margin-bottom: 0px\; margin-left: 0px\; padding-top: 0px\; padding-right: 0px\; padding-bottom: 0px\; padding-left: 0px\; text-align: left\; " valign="top" width="670">\n						<div class="pageparms" style="margin-left: 30px\; margin-right: 0px\; margin-top: 20px\; line-height: 18px\; width: 700px\; ">\n						<div id="cm_contentpage" style="padding-top: 10px\; padding-right: 10px\; padding-bottom: 10px\; padding-left: 10px\; font-size: 12px\; width: 700px\; clear: left\; font-family: Arial\, Helvetica\, sans-serif\, 'MS Sans Serif'\; margin-left: auto\; margin-right: auto\; ">\n						<div id="cm_events" style="min-height: 5px\; ">\n						<div id="cm_events_details">\n						<div id="cm_events2_col1" style="min-width: 325px\; width: 420px\; clear: left\; display: block\; line-height: normal\; white-space: normal\; padding-top: 5px\; ">\n						<div id="cm_events_description" style="min-width: 325px\; width: 325px\; clear: left\; display: block\; line-height: normal\; white-space: normal\; padding-top: 5px\; "><span class="cm_editor_fix">A&nbsp\;ribbon cutting ceremony will be held for Anytime Fitness in Mounds View Square on Friday\, June 20 at 11 a.m. in celebration of the fitness center&rsquo\;s recent renovations.<br />\n						&nbsp\;<br />\n						Complimentary cake and refreshments will be provided at the grand re-opening celebration.</span></div>\n						</div>\n						</div>\n						</div>\n						</div>\n						</div>\n						</td>\n					</tr>\n				</tbody>\n			</table>\n			</td>\n		</tr>\n	</tbody>\n</table>\n
LOCATION:2541 W County Road 10\, Mounds View\, MN
UID:e.380.151410
SEQUENCE:3
DTSTAMP:20260424T031316Z
URL:http://members.metronorthchamber.org/events/details/mounds-view-square-ribbon-cutting-ceremony-for-anytime-fitness-06-20-2014-151410
END:VEVENT

END:VCALENDAR
