BEGIN:VCALENDAR
VERSION:2.0
PRODID:-//ChamberMaster//Event Calendar 2.0//EN
METHOD:PUBLISH
X-PUBLISHED-TTL:P3D
REFRESH-INTERVAL:P3D
CALSCALE:GREGORIAN
BEGIN:VEVENT
DTSTART:20190511T180000Z
DTEND:20190511T200000Z
X-MICROSOFT-CDO-ALLDAYEVENT:FALSE
SUMMARY:Mothers Day Bingo/ Bingo
DESCRIPTION:Mothers Day Bingo.  Please call for Reservations
X-ALT-DESC;FMTTYPE=text/html:Mothers Day Bingo.&nbsp\; Please call for Reservations
LOCATION:Majestic Oaks Golf Club 701 Bunker Lake Blvd NE Ham Lake MN 55304
UID:e.380.188968
SEQUENCE:3
DTSTAMP:20260420T022816Z
URL:http://members.metronorthchamber.org/events/details/mothers-day-bingo-bingo-188968
END:VEVENT

END:VCALENDAR
