BEGIN:VCALENDAR
VERSION:2.0
PRODID:-//ChamberMaster//Event Calendar 2.0//EN
METHOD:PUBLISH
X-PUBLISHED-TTL:P3D
REFRESH-INTERVAL:P3D
CALSCALE:GREGORIAN
BEGIN:VEVENT
DTSTART:20160508T160000Z
DTEND:20160508T180000Z
X-MICROSOFT-CDO-ALLDAYEVENT:FALSE
SUMMARY:Mother's Day 5 Star Buffet w/Complimentary Mimosa Bar
DESCRIPTION:2016 Mother's Day Buffet\n\n....you are cordially invited\n\nResidents of EBT\, Families\, Friends and Community:\n\nPlease join us for a celebration of all Mothers!\n\n                                            Date:   May 8th\n\n                                           Time:  11:00 AM to 1:00 PM\n\n                                            Place:  Earle Brown Terrace\n\n\n\nMENU\n\nFresh Baked Rolls  - Fruit Platter  \n\nFresh Roasted Asparagus w/Hollandaise\n\n        Cheese & Cracker Trays with Assorted Fine Meats\n\n Au Gratin Potatoes\n\n       Entr es:  Baked Lemon Dill Salmon with Capers & white wine Beef Inside Round\n\n Egg Bake\, Bacon & Sausage\, Homemade Waffles w/Fruit\n\n        and Assorted Deserts and Beverages.\n\n                  \n\nComplimentary Mimosa Bar  (age restrictions apply)\n\n       \n\n Price:  $16.50 or 2 for $30.00!!! \n\n             (Kids 10 & Under: $6.00 each or 2 for $10.00)\n\nPlease RSVP at: 763-560-6829\n\n\n\nCorsages will be available to our resident Mothers\,\n\nplus single stem carnations\n\nwill be available to purchase for your favorite girl!!\n\n\n\n6100 Summit Drive North\, Brooklyn Center\, MN.  55430
X-ALT-DESC;FMTTYPE=text/html:<div style="text-align: center\;"><span style="font-size:22px"><strong><span style="font-family:brush script std"><span style="color:#800080">2016 Mother&rsquo\;s Day Buffet</span><br />\n....you are cordially invited</span></strong></span></div>\n\n<div style="text-align: center\;"><span style="font-size:16px"><strong><span style="font-family:cambria\,serif">Residents of EBT\, Families\, Friends and Community:<br />\nPlease join us for a celebration of all Mothers!</span></strong></span></div>\n\n<div>&nbsp\; &nbsp\; &nbsp\; &nbsp\; &nbsp\; &nbsp\; &nbsp\; &nbsp\; &nbsp\; &nbsp\; &nbsp\; &nbsp\; &nbsp\; &nbsp\; &nbsp\; &nbsp\; &nbsp\; &nbsp\; &nbsp\; &nbsp\; &nbsp\; &nbsp\;&nbsp\;<strong style="line-height:1.6"><span style="font-family:cambria\,serif"><span style="font-size:16.0pt"><span style="font-size:14px">Date: &nbsp\;&nbsp\;May 8<sup>th</sup></span></span></span></strong></div>\n\n<div><span style="font-size:14px"><span style="font-family:cambria\,serif">&nbsp\; &nbsp\; &nbsp\; &nbsp\; &nbsp\; &nbsp\; &nbsp\; &nbsp\; &nbsp\; &nbsp\; &nbsp\; &nbsp\; &nbsp\; &nbsp\; </span></span>&nbsp\;&nbsp\;&nbsp\;&nbsp\;&nbsp\;&nbsp\;&nbsp\;&nbsp\;&nbsp\;&nbsp\;&nbsp\;&nbsp\;&nbsp\;&nbsp\;&nbsp\;<strong><span style="font-size:14px"><span style="font-family:cambria\,serif">Time: &nbsp\;11:00 AM to 1:00 PM</span><br />\n<span style="font-family:cambria\,serif">&nbsp\; &nbsp\; &nbsp\; &nbsp\; &nbsp\; &nbsp\; &nbsp\; &nbsp\; &nbsp\; &nbsp\; &nbsp\; &nbsp\; &nbsp\; &nbsp\; &nbsp\; </span></span>&nbsp\; &nbsp\; &nbsp\; &nbsp\; &nbsp\; &nbsp\; &nbsp\;&nbsp\;<span style="font-size:14px"><span style="font-family:cambria\,serif">Place:&nbsp\; Earle Brown Terrace</span></span></strong></div>\n\n<div style="text-align: center\;"><br />\n<span style="font-size:14px"><strong><u><span style="font-family:baskerville old face\,serif">MENU</span></u></strong><br />\n<strong><em><span style="font-family:cambria\,serif">Fresh Baked Rolls &nbsp\;- Fruit Platter &nbsp\;<br />\nFresh Roasted Asparagus w/Hollandaise<br />\n&nbsp\;&nbsp\;&nbsp\;&nbsp\;&nbsp\;&nbsp\;&nbsp\; Cheese &amp\; Cracker Trays with Assorted Fine Meats<br />\n&nbsp\;Au Gratin Potatoes<br />\n&nbsp\;&nbsp\;&nbsp\;&nbsp\;&nbsp\;&nbsp\; <u>Entr&eacute\;es:</u>&nbsp\; Baked Lemon Dill Salmon with Capers &amp\; white wine Beef Inside Round<br />\n&nbsp\;Egg Bake\, Bacon &amp\; Sausage\, Homemade Waffles w/Fruit<br />\n&nbsp\;&nbsp\;&nbsp\;&nbsp\;&nbsp\;&nbsp\;&nbsp\; and Assorted Deserts and Beverages.<br />\n&nbsp\;&nbsp\;&nbsp\;&nbsp\;&nbsp\;&nbsp\;&nbsp\;&nbsp\;&nbsp\;&nbsp\;&nbsp\;&nbsp\;&nbsp\;&nbsp\;&nbsp\;&nbsp\;&nbsp\;&nbsp\;<br />\n<span style="color:#800080">Complimentary Mimosa Bar</span>&nbsp\; </span></em></strong><strong><em><span style="font-family:cambria\,serif">(age restrictions apply)</span></em></strong><br />\n<strong><em><span style="font-family:cambria\,serif">&nbsp\;&nbsp\;&nbsp\;&nbsp\;&nbsp\;&nbsp\;&nbsp\;<br />\n&nbsp\;</span></em></strong><strong><em><span style="font-family:cambria\,serif">Price:</span></em></strong><strong><span style="font-family:cambria\,serif">&nbsp\; $16.50 or 2 for $30.00!!! </span></strong><br />\n<strong><span style="font-family:cambria\,serif">&nbsp\;&nbsp\;&nbsp\;&nbsp\;&nbsp\;&nbsp\;&nbsp\; &nbsp\;&nbsp\;&nbsp\;&nbsp\;&nbsp\;(Kids 10 &amp\; Under: $6.00 each or 2 for $10.00)</span></strong><br />\n<strong><span style="font-family:cambria\,serif">Please RSVP at: 763-560-6829</span></strong><br />\n<br />\n<strong><span style="font-family:cambria\,serif">Corsages will be available to our resident Mothers\,<br />\nplus single stem carnations<br />\nwill be available to purchase for your favorite girl!!</span></strong></span></div>\n\n<div style="text-align: center\;"><br />\n<span style="font-size:14px"><strong>6100 Summit Drive North\, Brooklyn Center\, MN.&nbsp\; 55430</strong></span><br />\n&nbsp\;</div>\n
LOCATION:Earle Brown Terrace\, 6100 Summit Drive North\, Brooklyn Center\, MN. 55430
UID:e.380.168217
SEQUENCE:3
DTSTAMP:20260422T120935Z
URL:http://members.metronorthchamber.org/events/details/mother-s-day-5-star-buffet-w-complimentary-mimosa-bar-05-08-2016-168217
END:VEVENT

END:VCALENDAR
