BEGIN:VCALENDAR
VERSION:2.0
PRODID:-//ChamberMaster//Event Calendar 2.0//EN
METHOD:PUBLISH
X-PUBLISHED-TTL:P3D
REFRESH-INTERVAL:P3D
CALSCALE:GREGORIAN
BEGIN:VEVENT
DTSTART:20180915T133000Z
DTEND:20180915T143000Z
X-MICROSOFT-CDO-ALLDAYEVENT:FALSE
SUMMARY:Morning of Meditation
DESCRIPTION:Gentle breathing & grounding guided meditations for relaxation and healing.
X-ALT-DESC;FMTTYPE=text/html:Gentle breathing &amp\; grounding guided meditations for relaxation and healing.&nbsp\;
LOCATION:Total Health & Healing Center 11417 Hanson Boulevard NW Suite 101 Coon Rapids\, MN 55433 (763) 754-1482 (work)
UID:e.380.186910
SEQUENCE:3
DTSTAMP:20260420T152657Z
URL:http://members.metronorthchamber.org/events/details/morning-of-meditation-186910
END:VEVENT

END:VCALENDAR
