BEGIN:VCALENDAR
VERSION:2.0
PRODID:-//ChamberMaster//Event Calendar 2.0//EN
METHOD:PUBLISH
X-PUBLISHED-TTL:P3D
REFRESH-INTERVAL:P3D
CALSCALE:GREGORIAN
BEGIN:VEVENT
DTSTART:20180114T030000Z
DTEND:20180114T060000Z
X-MICROSOFT-CDO-ALLDAYEVENT:FALSE
SUMMARY:Moonlight Shoot - Bills Gun Shop & Range
DESCRIPTION:Customers will get a chance to shoot at our range after hours. The moonlight shoot is for customers who want to experience shooting in a low light condition. We are bringing a fun\, exciting and safe atmosphere of cosmic lighting to the range. Instructors will be available on site to assist all customers.
X-ALT-DESC;FMTTYPE=text/html:<span style="background-color:rgb(245\, 245\, 245)\; color:rgb(101\, 101\, 101)\; font-family:open sans\,arial narrow\; font-size:13px">Customers will get a chance to shoot at our range after hours. The moonlight shoot is for customers who want to experience shooting in a low light condition. We are bringing a fun\, exciting and safe atmosphere of cosmic lighting to the range. Instructors will be available on site to assist all customers.</span>
LOCATION:Bill's Gun Shop & Range Circle Pines 3621 88th Ave NE\, Circle Pines\, MN 55014
UID:e.380.179556
SEQUENCE:3
DTSTAMP:20260421T033946Z
URL:http://members.metronorthchamber.org/events/details/moonlight-shoot-bills-gun-shop-range-179556
END:VEVENT

END:VCALENDAR
