BEGIN:VCALENDAR
VERSION:2.0
PRODID:-//ChamberMaster//Event Calendar 2.0//EN
METHOD:PUBLISH
X-PUBLISHED-TTL:P3D
REFRESH-INTERVAL:P3D
CALSCALE:GREGORIAN
BEGIN:VEVENT
DTSTART:20140125T160000Z
DTEND:20140125T200000Z
X-MICROSOFT-CDO-ALLDAYEVENT:FALSE
SUMMARY:Mommy\, Grandmom\, & Me Princess Party
DESCRIPTION:Mommy and Me Princess Party. Mom gets a facial and pamper time while the young ladies can play Princess with all the flair of tiaras\, nail polish\, play makeup \n\n\n\nRefreshments\, happiness\, samples\, and smiles provided.\n\n\n\nEveryone deserves to be a princess.\n\n\n\nWe welcome Glistening Glam Jewelry & Purse O Nality for the diva!\n\n\n\nKaren Hofer Senior Sales Director\n\nMary Kay Consultant\n\nDJ Hartley\n\n763-291-8427
X-ALT-DESC;FMTTYPE=text/html:Mommy and Me Princess Party. Mom gets a facial and pamper time while the young ladies can play Princess with all the flair of tiaras\, nail polish\, play makeup&hellip\;<br />\n<br />\nRefreshments\, happiness\, samples\, and smiles provided.<br />\n<br />\nEveryone deserves to be a princess.<br />\n<br />\nWe welcome Glistening Glam Jewelry &amp\; Purse O Nality&nbsp\;for the diva!<br />\n<br />\nKaren Hofer Senior Sales Director<br />\nMary Kay Consultant<br />\nDJ Hartley<br />\n763-291-8427<br />\n<br />\n
LOCATION:Cutters Grove Apts 2901 Cutters Grove Ave Anoka\, MN 55303
UID:e.380.150043
SEQUENCE:3
DTSTAMP:20260424T093440Z
URL:http://members.metronorthchamber.org/events/details/mommy-grandmom-me-princess-party-01-25-2014-150043
END:VEVENT

END:VCALENDAR
