BEGIN:VCALENDAR
VERSION:2.0
PRODID:-//ChamberMaster//Event Calendar 2.0//EN
METHOD:PUBLISH
X-PUBLISHED-TTL:P3D
REFRESH-INTERVAL:P3D
CALSCALE:GREGORIAN
BEGIN:VEVENT
DTSTART:20161006T233000Z
DTEND:20161007T003000Z
X-MICROSOFT-CDO-ALLDAYEVENT:FALSE
SUMMARY:Mobility Clinic
DESCRIPTION:Learn different mobility techniques using a foam roller\, lacrosse ball\, and double lacrosse ball! Clinic will be hands-on so wear active clothing! Tools will be available for use during the clinic and for purchase to keep! Dr. Bob Vaughn from HealthSource of Blaine and Rick Jensen\, owner/coach at Crossfit Blaine\, will be instructing!
X-ALT-DESC;FMTTYPE=text/html:Learn different mobility techniques using a foam roller\, lacrosse ball\, and double lacrosse ball! Clinic will be hands-on so wear active clothing! Tools will&nbsp\;be available for use during the clinic and for purchase to keep! Dr. Bob Vaughn from HealthSource of Blaine and Rick Jensen\, owner/coach at Crossfit Blaine\, will be instructing!
LOCATION:Crossfit Blaine 1630 101st Ave NE #190 Blaine\, MN 55449
UID:e.380.169488
SEQUENCE:3
DTSTAMP:20260422T032928Z
URL:http://members.metronorthchamber.org/events/details/mobility-clinic-169488
END:VEVENT

END:VCALENDAR
