BEGIN:VCALENDAR
VERSION:2.0
PRODID:-//ChamberMaster//Event Calendar 2.0//EN
METHOD:PUBLISH
X-PUBLISHED-TTL:P3D
REFRESH-INTERVAL:P3D
CALSCALE:GREGORIAN
BEGIN:VEVENT
DTSTART:20161202T010000Z
DTEND:20161202T020000Z
X-MICROSOFT-CDO-ALLDAYEVENT:FALSE
SUMMARY:Mobility Clinic
DESCRIPTION:Sore? Stiff? Restricted motion? This clinic will be hands-on and interactive to teach you how to use a lacrosse ball\, foam roller\, double lacrosse ball\, and shearing band to help increase range of motion and break up scar tissue/adhesions. Come wearing comfortable clothing to try these techniques out. Tools will be available to use during the clinic and to purchase if you want to take them home with you!
X-ALT-DESC;FMTTYPE=text/html:Sore? Stiff? Restricted motion? This clinic will be hands-on and interactive to teach you how to use a lacrosse ball\, foam roller\, double lacrosse ball\, and shearing band to help increase range of motion and break up scar tissue/adhesions. Come wearing comfortable clothing to try these techniques out. Tools will be available to use during the clinic and to purchase if you want to take them home with you!<br />\n&nbsp\;
LOCATION:HealthSource of Blaine 10904 Baltimore St. NE #103 Blaine\, MN 55449
UID:e.380.170167
SEQUENCE:3
DTSTAMP:20260421T235401Z
URL:http://members.metronorthchamber.org/events/details/mobility-clinic-11-17-2016-170167
END:VEVENT

END:VCALENDAR
