BEGIN:VCALENDAR
VERSION:2.0
PRODID:-//ChamberMaster//Event Calendar 2.0//EN
METHOD:PUBLISH
X-PUBLISHED-TTL:P3D
REFRESH-INTERVAL:P3D
CALSCALE:GREGORIAN
BEGIN:VEVENT
DTSTART:20140130T140000Z
DTEND:20140130T180000Z
X-MICROSOFT-CDO-ALLDAYEVENT:FALSE
SUMMARY:Mobile marketing seminar by Risdall Marketing Group
DESCRIPTION:Risdall Marketing Group presents a mobile marketing seminar titled "Leveraging Mobile Technology to Grow your Business" on Thursday\, Jan. 30\, at the Risdall Conference Center\, 550 Main St.\, New Brighton. The seminar will cover the basics of mobile marketing and share effective mobile marketing strategies to generate leads and increase sales. Check-in is 8-8:30 a.m.\, and the seminar runs 8:30 a.m.-noon. Cost is $99 per person. To register\, visit growthbymobile.eventbrite.com.
X-ALT-DESC;FMTTYPE=text/html:Risdall Marketing Group presents a mobile marketing seminar titled &ldquo\;Leveraging Mobile Technology to Grow your Business&rdquo\; on Thursday\, Jan. 30\, at the Risdall Conference Center\, 550 Main St.\, New Brighton. The seminar will cover the basics of mobile marketing and share effective mobile marketing strategies to generate leads and increase sales. Check-in is 8-8:30 a.m.\, and the seminar runs 8:30 a.m.-noon. Cost is $99 per person. To register\, visit <a href="http://growthbymobile.eventbrite.com" target="_blank">growthbymobile.eventbrite.com</a>.
LOCATION:Risdall Conference Center\, 550 Main St.\, New Brighton
UID:e.380.150074
SEQUENCE:3
DTSTAMP:20260424T092938Z
URL:http://members.metronorthchamber.org/events/details/mobile-marketing-seminar-by-risdall-marketing-group-01-30-2014-150074
END:VEVENT

END:VCALENDAR
