BEGIN:VCALENDAR
VERSION:2.0
PRODID:-//ChamberMaster//Event Calendar 2.0//EN
METHOD:PUBLISH
X-PUBLISHED-TTL:P3D
REFRESH-INTERVAL:P3D
CALSCALE:GREGORIAN
BEGIN:VEVENT
DTSTART:20131204T220000Z
DTEND:20131205T000000Z
X-MICROSOFT-CDO-ALLDAYEVENT:FALSE
SUMMARY:MnDOT Town Hall Meeting
DESCRIPTION:Minnesota Department of Transportation Commissioner Charlie Zelle would like to  invite the public to attend this town hall meeting on transportation\, including transit.\n\n\n\nZelle will lead a discussion about transportation\, how it affects quality of life\, its link to Minnesota's economy and the importance of investing in this state asset.\n\n\n\nMnDOT will also take feedback and answer questions about Minnesota's transportation system.\n\n\n\nEveryone is invited and encouraged to attend.\n\n\n\nAdditional information is available at www.mndot.gov/minnesotago/.\n\n\n\nTo request an ASL or foreign language interpreter\, or other reasonable accommodation\, call Janet Miller at 651-366-4720 or 1-800-657-3774 (Greater Minnesota)\, 711 or 1-800-627-3529 (Minnesota Relay). You also may send an email to ADArequest.dot@state.mn.us.
X-ALT-DESC;FMTTYPE=text/html:Minnesota Department of Transportation Commissioner Charlie Zelle would like to  invite the public to attend this town hall meeting on transportation\, including transit.<br />\n<br />\nZelle will lead a discussion about transportation\, how it affects quality of life\, its link to Minnesota&rsquo\;s economy and the importance of investing in this state asset.<br />\n<br />\nMnDOT will also take feedback and answer questions about Minnesota&rsquo\;s transportation system.<br />\n<br />\nEveryone is invited and encouraged to attend.<br />\n<br />\nAdditional information is available at <u><a href="http://www.mndot.gov/minnesotago/"><span style="color:#0000ff\;">www.mndot.gov/minnesotago/</span></a></u>.<br />\n<br />\nTo request an ASL or foreign language interpreter\, or other reasonable accommodation\, call Janet Miller at 651-366-4720 or 1-800-657-3774 (Greater Minnesota)\, 711 or 1-800-627-3529 (Minnesota Relay). You also may send an email to ADArequest.dot@state.mn.us.
LOCATION:Anoka/Ramsey Community College Legacy Conference Room 11200 Mississippi Blvd. NW\, Coon Rapids
UID:e.380.149933
SEQUENCE:3
DTSTAMP:20260424T111354Z
URL:http://members.metronorthchamber.org/events/details/mndot-town-hall-meeting-12-04-2013-149933
END:VEVENT

END:VCALENDAR
