BEGIN:VCALENDAR
VERSION:2.0
PRODID:-//ChamberMaster//Event Calendar 2.0//EN
METHOD:PUBLISH
X-PUBLISHED-TTL:P3D
REFRESH-INTERVAL:P3D
CALSCALE:GREGORIAN
BEGIN:VEVENT
DTSTART:20150902T203000Z
DTEND:20150902T210000Z
X-MICROSOFT-CDO-ALLDAYEVENT:FALSE
SUMMARY:Mississippi Gardens Ribbon Cutting
DESCRIPTION:Help us celebrate the new membership of Mississippi Gardens. They will be holding an open house with tours\, and light refreshments.
X-ALT-DESC;FMTTYPE=text/html:Help us celebrate the new membership of Mississippi Gardens. They will be holding an open house with tours\, and light refreshments.
LOCATION:Leopold's Mississippi Gardens 9500 West River Road\, Minneapolis MN\, 55444
UID:e.380.158535
SEQUENCE:3
DTSTAMP:20260423T030443Z
URL:http://members.metronorthchamber.org/events/details/mississippi-gardens-ribbon-cutting-09-02-2015-158535
END:VEVENT

END:VCALENDAR
