BEGIN:VCALENDAR
VERSION:2.0
PRODID:-//ChamberMaster//Event Calendar 2.0//EN
METHOD:PUBLISH
X-PUBLISHED-TTL:P3D
REFRESH-INTERVAL:P3D
CALSCALE:GREGORIAN
BEGIN:VEVENT
DTSTART:20170729T160000Z
DTEND:20170729T200000Z
X-MICROSOFT-CDO-ALLDAYEVENT:FALSE
SUMMARY:Minnesota KidsID: A Child Safety Program
DESCRIPTION:We are hosting a child safety event which creates safety kits for children. The importance of this kit is very simple. If a child is ever missing\, this kit saves precious time. The most critical time for a missing child is the first 24 hours. This kit provides all the necessary information to facilitate law enforcement search and rescue squads.
X-ALT-DESC;FMTTYPE=text/html:We are hosting a child safety event which creates safety kits for children. The importance of this kit is very simple. If a child is ever missing\, this kit saves precious time. The most critical time for a missing child is the first 24 hours. This kit provides all the necessary information to facilitate law enforcement search and rescue squads.&nbsp\;&nbsp\;&nbsp\;&nbsp\;
LOCATION:Savers 50 Coon Rapids Blvd Coon Rapids\, MN 55448
UID:e.380.176383
SEQUENCE:3
DTSTAMP:20260421T121300Z
URL:http://members.metronorthchamber.org/events/details/minnesota-kidsid-a-child-safety-program-176383
END:VEVENT

END:VCALENDAR
