BEGIN:VCALENDAR
VERSION:2.0
PRODID:-//ChamberMaster//Event Calendar 2.0//EN
METHOD:PUBLISH
X-PUBLISHED-TTL:P3D
REFRESH-INTERVAL:P3D
CALSCALE:GREGORIAN
BEGIN:VEVENT
DTSTART;VALUE=DATE:20130829
DTEND;VALUE=DATE:20130830
TRANSP:TRANSPARENT
X-MICROSOFT-CDO-ALLDAYEVENT:TRUE
SUMMARY:Minnesota Gophers v. UNLV Runnin' Rebels
DESCRIPTION:
X-ALT-DESC;FMTTYPE=text/html:
LOCATION:TCF Bank Stadium 2009 University Ave SE Minneapolis\, MN 55455
UID:e.380.149444
SEQUENCE:3
DTSTAMP:20260424T175557Z
URL:http://members.metronorthchamber.org/events/details/minnesota-gophers-v-unlv-runnin-rebels-08-29-2013-149444
END:VEVENT

END:VCALENDAR
