BEGIN:VCALENDAR
VERSION:2.0
PRODID:-//ChamberMaster//Event Calendar 2.0//EN
METHOD:PUBLISH
X-PUBLISHED-TTL:P3D
REFRESH-INTERVAL:P3D
CALSCALE:GREGORIAN
BEGIN:VEVENT
DTSTART:20131123T060000Z
DTEND:20131123T060000Z
X-MICROSOFT-CDO-ALLDAYEVENT:FALSE
SUMMARY:Minnesota Gopher Football v. Wisconsin Badgers
DESCRIPTION:Come support Gopher Football & Coach Kill in his third year at the helm!\n\nMinnesota Gophers v. Wisconsin Badgers\n\nSat. Nov. 23rd\, 2013\n\nTime: TBD    \n\nContact: Andrew Sullivan @ 612-626-2022 for your great seats!
X-ALT-DESC;FMTTYPE=text/html:Come support Gopher Football &amp\; Coach Kill in his third year at the helm!<br />\nMinnesota Gophers v. Wisconsin Badgers<br />\nSat. Nov. 23rd\, 2013<br />\nTime: TBD&nbsp\;&nbsp\;&nbsp\;&nbsp\;<br />\nContact: Andrew Sullivan @ 612-626-2022 for your great seats!
LOCATION:TCF Bank Stadium 2009 University Ave SE Minneapolis\, MN 55455
UID:e.380.149874
SEQUENCE:3
DTSTAMP:20260424T125029Z
URL:http://members.metronorthchamber.org/events/details/minnesota-gopher-football-v-wisconsin-badgers-11-23-2013-149874
END:VEVENT

END:VCALENDAR
