BEGIN:VCALENDAR
VERSION:2.0
PRODID:-//ChamberMaster//Event Calendar 2.0//EN
METHOD:PUBLISH
X-PUBLISHED-TTL:P3D
REFRESH-INTERVAL:P3D
CALSCALE:GREGORIAN
BEGIN:VEVENT
DTSTART:20131109T170000Z
DTEND:20131109T203000Z
X-MICROSOFT-CDO-ALLDAYEVENT:FALSE
SUMMARY:Minnesota Gopher Football v. Penn State Nittany Lions
DESCRIPTION:Come support Golden Gopher Football & Coach Kill in his third year at the helm of the Gophers!\n\nMinnesota Gophers v. Penn State Nittany Lions\n\nKickoff 11am. \n\nTickets start at just $40!\n\nContact: Andrew Sullivan @ 612-626-2022 for your great seats!
X-ALT-DESC;FMTTYPE=text/html:Come support Golden Gopher Football &amp\; Coach Kill in his third year at the helm of the Gophers!<br />\nMinnesota Gophers v. Penn State Nittany Lions<br />\nKickoff 11am.&nbsp\;<br />\nTickets start at just $40!<br />\nContact: Andrew Sullivan @ 612-626-2022 for your great seats!
LOCATION:TCF Bank Stadium 2009 University Ave SE Minneapolis\, MN 55455
UID:e.380.149873
SEQUENCE:3
DTSTAMP:20260424T124932Z
URL:http://members.metronorthchamber.org/events/details/minnesota-gopher-football-v-penn-state-nittany-lions-11-09-2013-149873
END:VEVENT

END:VCALENDAR
