BEGIN:VCALENDAR
VERSION:2.0
PRODID:-//ChamberMaster//Event Calendar 2.0//EN
METHOD:PUBLISH
X-PUBLISHED-TTL:P3D
REFRESH-INTERVAL:P3D
CALSCALE:GREGORIAN
BEGIN:VEVENT
DTSTART:20140219T210000Z
DTEND:20140220T030000Z
X-MICROSOFT-CDO-ALLDAYEVENT:FALSE
SUMMARY:Minnesota 2014 Entrepreneur Kick-Off
DESCRIPTION:Learn from and connect with prominent Minnesota investors and successful startups at the Minnesota 2014 Entrepreneur Kick-Off event. Hosted by an alliance of 19 Minnesota Entrepreneur Network partners\, this premier event will teach\, inspire and ignite local entrepreneurs and inventors\, and propel Minnesota's entrepreneurial ecosystem. Program highlights include:\n\n	\n		\n			Savvy Entrepreneur Symposium   "Crowd Funding Nuts & Bolts" symposium to uncover actionable tips for successful crowdfunding and getting a company off the ground\, led by experts at Mad Hatter Agency\, Winthrop & Weinstine\, P.A.\, Risdall Marketing Group and Spark.\n	\n	\n		\n			Entrepreneur Bazaar   Meet and learn from national award-winning startups\, including companies recognized by the Minnesota Cup\, Midwest and National Cleantech Open\, Idea Competition and more.\n	\n	\n		\n			Successful Entrepreneur Stories   Stories from Garden Fresh Farms\, Perk Health and When I Work will demonstrate how startups gain traction and resources to succeed.\n	\n	\n		\n			Finance Panel   A panel of finance experts from across Minnesota will answer investment questions\, share funding examples and provide guidance.\n	\n\n\n	Date:\n\n	Wednesday\, Feb. 19\, 3-9 p.m.\n\n	 \n\n	Location:\n\n	Boy Scout Base Camp\, Fort Snelling\n\n	201 Bloomington Road\n\n	Fort Snelling\, Minnesota 55111\n\n	 \n\n	Registration:\n\n	$20 for students\n\n	$40 for startups (0-2 years)\n\n	$50 for general admission\n\n	\n\n	For more information and registration\, visit www.mnentrepreneurs.org.
X-ALT-DESC;FMTTYPE=text/html:<span style="font-family: arial\, sans-serif\; font-size: 13px\;">Learn from and connect with prominent Minnesota investors and successful startups at the Minnesota 2014 Entrepreneur Kick-Off event. Hosted by an alliance of 19 Minnesota Entrepreneur Network partners\, this premier event will teach\, inspire and ignite local entrepreneurs and inventors\, and propel Minnesota&rsquo\;s entrepreneurial ecosystem. Program highlights include:</span>\n<div style="font-family: arial\, sans-serif\; font-size: 13px\;">\n	<ul>\n		<li style="margin-left: 15px\;">\n			<b>Savvy Entrepreneur Symposium</b>&nbsp\;&ndash\; &ldquo\;Crowd Funding Nuts &amp\; Bolts&rdquo\; symposium to uncover actionable tips for successful crowdfunding and getting a company off the ground\, led by experts at Mad Hatter Agency\, Winthrop &amp\; Weinstine\, P.A.\, Risdall Marketing Group and Spark.</li>\n	</ul>\n	<ul>\n		<li style="margin-left: 15px\;">\n			<b>Entrepreneur Bazaar</b>&nbsp\;&ndash\; Meet and learn from national award-winning startups\, including companies recognized by the Minnesota Cup\, Midwest and National Cleantech Open\, Idea Competition and more.</li>\n	</ul>\n	<ul>\n		<li style="margin-left: 15px\;">\n			<b>Successful Entrepreneur Stories</b>&nbsp\;&ndash\; Stories from Garden Fresh Farms\, Perk Health and When I Work will demonstrate how startups gain traction and resources to succeed.</li>\n	</ul>\n	<ul>\n		<li style="margin-left: 15px\;">\n			<b>Finance Panel&nbsp\;</b>&ndash\; A panel of finance experts from across Minnesota will answer investment questions\, share funding examples and provide guidance.</li>\n	</ul>\n</div>\n<div style="font-family: arial\, sans-serif\; font-size: 13px\;">\n	Date:</div>\n<div style="font-family: arial\, sans-serif\; font-size: 13px\;">\n	Wednesday\, Feb. 19\, 3-9 p.m.<br />\n	&nbsp\;</div>\n<div style="font-family: arial\, sans-serif\; font-size: 13px\;">\n	Location:<br />\n	Boy Scout Base Camp\, Fort Snelling<br />\n	201 Bloomington Road<br />\n	Fort Snelling\, Minnesota 55111<br />\n	&nbsp\;</div>\n<div style="font-family: arial\, sans-serif\; font-size: 13px\;">\n	Registration:<br />\n	$20 for students<br />\n	$40 for startups (0-2 years)<br />\n	$50 for general admission<br />\n	<br />\n	For more information and registration\, visit&nbsp\;<a href="http://www.mnentrepreneurs.org/" style="color: rgb(17\, 85\, 204)\;" target="_blank">www.mnentrepreneurs.org</a>.</div>\n
LOCATION:Boy Scout Base Camp\, Fort Snelling 201 Bloomington Road Fort Snelling\, Minnesota 55111
UID:e.380.150304
SEQUENCE:3
DTSTAMP:20260424T075538Z
URL:http://members.metronorthchamber.org/events/details/minnesota-2014-entrepreneur-kick-off-02-19-2014-150304
END:VEVENT

END:VCALENDAR
