BEGIN:VCALENDAR
VERSION:2.0
PRODID:-//ChamberMaster//Event Calendar 2.0//EN
METHOD:PUBLISH
X-PUBLISHED-TTL:P3D
REFRESH-INTERVAL:P3D
CALSCALE:GREGORIAN
BEGIN:VEVENT
DTSTART:20180905T150000Z
DTEND:20180905T160000Z
X-MICROSOFT-CDO-ALLDAYEVENT:FALSE
SUMMARY:Ministry Ventures Webinar Opportunity
DESCRIPTION:5 reasons to join the seminar:\n\n1. Discover 5 mistakes ministries often make and practical solutions\n\n2. Help others get involved in thelling your ministry story\n\n3. Help your board members look forward to meetings.\n\n4. Address 2 questions you didn\;t know your supporters were asking\n\n5. Learn about Ministry Ventures Executive Group Coaching.
X-ALT-DESC;FMTTYPE=text/html:5 reasons to join the seminar:<br />\n1. Discover 5 mistakes ministries often make and practical solutions<br />\n2. Help others get involved in thelling your ministry story<br />\n3. Help your board members look forward to meetings.<br />\n4. Address 2 questions you didn\;t know your supporters were asking<br />\n5. Learn about Ministry Ventures Executive Group Coaching.<br />\n<br />\n&nbsp\;
LOCATION:
UID:e.380.186936
SEQUENCE:3
DTSTAMP:20260420T165445Z
URL:http://members.metronorthchamber.org/events/details/ministry-ventures-webinar-opportunity-186936
END:VEVENT

END:VCALENDAR
