BEGIN:VCALENDAR
VERSION:2.0
PRODID:-//ChamberMaster//Event Calendar 2.0//EN
METHOD:PUBLISH
X-PUBLISHED-TTL:P3D
REFRESH-INTERVAL:P3D
CALSCALE:GREGORIAN
BEGIN:VEVENT
DTSTART:20191211T131500Z
DTEND:20191211T141500Z
X-MICROSOFT-CDO-ALLDAYEVENT:FALSE
SUMMARY:Million Dollar Day for Scouting
DESCRIPTION:Save the Date!\n\nNorthern Star Scouting is hosting a leadership breakfast at the InterContinental St. Paul Riverfront. Featuring the President of University of Minnesota\, Joan T.A. Gabel.
X-ALT-DESC;FMTTYPE=text/html:Save the Date!<br />\nNorthern Star Scouting is hosting a leadership breakfast at the InterContinental St. Paul Riverfront. Featuring the President of University of Minnesota\, Joan T.A. Gabel.
LOCATION:InterContinental St. Paul Riverfront
UID:e.380.191701
SEQUENCE:3
DTSTAMP:20260419T142026Z
URL:http://members.metronorthchamber.org/events/details/million-dollar-day-for-scouting-191701
END:VEVENT

END:VCALENDAR
