BEGIN:VCALENDAR
VERSION:2.0
PRODID:-//ChamberMaster//Event Calendar 2.0//EN
METHOD:PUBLISH
X-PUBLISHED-TTL:P3D
REFRESH-INTERVAL:P3D
CALSCALE:GREGORIAN
BEGIN:VEVENT
DTSTART:20120614T200000Z
DTEND:20120614T213000Z
X-MICROSOFT-CDO-ALLDAYEVENT:FALSE
SUMMARY:Military Networking Event at Rasmussen College
DESCRIPTION:Volt Military Heroes Program has partnered with Rasmussen College to help transitioning soldiers and their spouses prepare for civilian careers and we are pleased to announce that Representative John Kriesel will be speaking at this event.\n\n\n\nYou're invited to join Rasmussen College in Blaine\, Minnesota for a networking event where you can meet with your peers and learn from experts in veteran recruiting and the military transition process. Learn what to expect in the civilian job market\, how to translate your military expertise into a new career\, and gain access to resources to aid in your job search.\n\n\n\nAll attendees will be entered into a drawing for a $50 gas card giveaway that will be raffled at the end of the event.\n\n\n\nPlease RSVP by: June 11\, 2012 to Markda Awada at mawada@volt.com or 651.633.3889
X-ALT-DESC;FMTTYPE=text/html:Volt Military Heroes Program has partnered with Rasmussen College to help transitioning soldiers and their spouses prepare for civilian careers and we are pleased to announce that Representative John Kriesel will be speaking at this event.<br />\n<br />\nYou&#39\;re invited to join Rasmussen College in Blaine\, Minnesota for a networking event where you can meet with your peers and learn from experts in veteran recruiting and the military transition process. Learn what to expect in the civilian job market\, how to translate your military expertise into a new career\, and gain access to resources to aid in your job search.<br />\n<br />\nAll attendees will be entered into a drawing for a $50 gas card giveaway that will be raffled at the end of the event.<br />\n<br />\nPlease RSVP by: June 11\, 2012 to Markda Awada at <a href="mailto:mawada@volt.com">mawada@volt.com</a> or 651.633.3889
LOCATION:Rasmussen College\, Blaine Campus 3629 95th Ave. NE\, Blaine MN
UID:e.380.144984
SEQUENCE:3
DTSTAMP:20260425T161714Z
URL:http://members.metronorthchamber.org/events/details/military-networking-event-at-rasmussen-college-06-14-2012-144984
END:VEVENT

END:VCALENDAR
