BEGIN:VCALENDAR
VERSION:2.0
PRODID:-//ChamberMaster//Event Calendar 2.0//EN
METHOD:PUBLISH
X-PUBLISHED-TTL:P3D
REFRESH-INTERVAL:P3D
CALSCALE:GREGORIAN
BEGIN:VEVENT
DTSTART:20140802T230000Z
DTEND:20140803T020000Z
X-MICROSOFT-CDO-ALLDAYEVENT:FALSE
SUMMARY:Midwest Nightmare Semi Finals Home vs. TBD
DESCRIPTION:MPFL Semi Final Game\n\n\n\nMidwest Nightmare vs. TBD\n\n \n\nSpring Lake Park High School Football Field\n\n\n\nAugust 2nd\, 2014\n\nGates open at 5 pm\n\nKickoff is at 6 pm\n\n\n\n\n\nTickets:\n\nAdult $10.00\n\nKids 6-12 $5\n\nChildren 5 and under - Free\n\nVeterans with ID:  Free\n\nFamily Admission (2 Adults\, 2 Children)  $25\n\n\n\nConcessions on site\n\n\n\n\n\nPlease support our Community Sponsors:\n\nJam Hop\n\nFlowerama\n\n$4 Carwash\n\nMowak Moving\n\nJersey Mike's\n\nChiroway\n\nRunning Aces\n\nRoymayne's Sports Bar\n\nSt. Paul Saloon\n\nViking Material
X-ALT-DESC;FMTTYPE=text/html:<div style="text-align: center\;"><span style="font-size:18px\;"><u><strong>MPFL Semi Final Game</strong></u></span><br />\n<br />\n<span style="font-size:20px\;"><strong>Midwest Nightmare vs. TBD<br />\n<span style="font-size:8px\;">&nbsp\;</span><br />\nSpring Lake Park High School Football Field</strong></span><br />\n<br />\n<span style="font-size:18px\;"><strong>August 2nd\, 2014<br />\nGates open at 5 pm<br />\nKickoff is at 6 pm</strong></span><br />\n<br />\n<br />\n<span style="font-size:14px\;">Tickets:<br />\nAdult $10.00<br />\nKids 6-12 $5<br />\nChildren 5 and under - Free<br />\nVeterans with ID:&nbsp\; Free<br />\nFamily Admission (2 Adults\, 2 Children)&nbsp\; $25</span><br />\n<br />\n<span style="font-size:14px\;">Concessions on site</span><br />\n<br />\n<br />\n<span style="font-size:16px\;"><em>Please support our Community Sponsors:<br />\nJam Hop<br />\nFlowerama<br />\n$4 Carwash<br />\nMowak Moving<br />\nJersey Mike&#39\;s<br />\nChiroway<br />\nRunning Aces<br />\nRoymayne&#39\;s Sports Bar<br />\nSt. Paul Saloon</em></span><br />\n<em><span style="font-size:16px\;">Viking Material</span></em></div>\n
LOCATION:Spring Lake Park Schools - High School Field 1100 81st Avenue NE Spring Lake Park\, MN 55432 Parking: Lot off of Able Street
UID:e.380.151498
SEQUENCE:3
DTSTAMP:20260423T222101Z
URL:http://members.metronorthchamber.org/events/details/midwest-nightmare-semi-finals-home-vs-tbd-08-02-2014-151498
END:VEVENT

END:VCALENDAR
