BEGIN:VCALENDAR
VERSION:2.0
PRODID:-//ChamberMaster//Event Calendar 2.0//EN
METHOD:PUBLISH
X-PUBLISHED-TTL:P3D
REFRESH-INTERVAL:P3D
CALSCALE:GREGORIAN
BEGIN:VEVENT
DTSTART:20130731T150000Z
DTEND:20130731T163000Z
X-MICROSOFT-CDO-ALLDAYEVENT:FALSE
SUMMARY:Microsoft Office 365 Executive Level Hands On Experience
DESCRIPTION:Overview: Alto Consulting would like to invite you to a free exclusive executive level interactive event that will provide a customer experience into Microsoft's cloud solution: Office 365.\n\nThis business productivity scenario is designed to let business decision makers experience the entire Microsoft Office 365 productivity platform in the context of a typical business situation at a fictitious company\, Contoso.\n\n\n\nEvent Details: In the workshop you will assume the role of an employee within Contoso. Alto will facilitate a hands-on walk through of daily business activities and you will see how Office 365 dramatically increases worker productivity and customer service.\n\n\n\nThis is not a technical event and is designed for busy executives to quickly see and try out Office 365 so they can make a strategic assessment of how it fits in their organization. The focus is not on technology but on the functionality that can improve communication\, collaboration\, and efficiencies in an organization\, and therefore save the company time and money.\n\n\n\nSummary: This is a great opportunity to have a hands-on experience with Office 365 and see how it can benefit your organization. See why Office 365 and the cloud is a game changer for business.\n\n\n\nSeats are limited. Contact Joy Christensen to reserve a seat
X-ALT-DESC;FMTTYPE=text/html:<br />\n<span style="font-size: 10pt\;"><span style="font-family: arial\,sans-serif\;"><span style="color: rgb(69\, 69\, 69)\;"><strong>Overview:</strong> Alto Consulting would like to invite you to a free exclusive executive level interactive event that will provide a customer experience into Microsoft&rsquo\;s cloud solution: Office 365.<br />\nThis business productivity scenario is designed to let business decision makers experience the entire Microsoft Office 365 productivity platform in the context of a typical business situation at a fictitious company\, Contoso.<br />\n<br />\n<strong>Event Details:</strong> In the workshop you will assume the role of an employee within Contoso. Alto will facilitate a hands-on walk through of daily business activities and you will see how Office 365 dramatically increases worker productivity and customer service.<br />\n<br />\nThis is not a technical event and is designed for busy executives to quickly see and try out Office 365 so they can make a strategic assessment of how it fits in their organization. The focus is not on technology but on the functionality that can improve communication\, collaboration\, and efficiencies in an organization\, and therefore save the company time and money.<br />\n<br />\n<strong>Summary:</strong> This is a great opportunity to have a hands-on experience with Office 365 and see how it can benefit your organization. See why Office 365 and the cloud is a game changer for business.<br />\n<br />\nSeats are limited. Contact Joy Christensen to reserve a seat</span></span></span><br />\n
LOCATION:7210 Metro Boulevard Minneapolis\, MN 55439
UID:e.380.149286
SEQUENCE:3
DTSTAMP:20260424T192455Z
URL:http://members.metronorthchamber.org/events/details/microsoft-office-365-executive-level-hands-on-experience-07-31-2013-149286
END:VEVENT

END:VCALENDAR
