BEGIN:VCALENDAR
VERSION:2.0
PRODID:-//ChamberMaster//Event Calendar 2.0//EN
METHOD:PUBLISH
X-PUBLISHED-TTL:P3D
REFRESH-INTERVAL:P3D
CALSCALE:GREGORIAN
BEGIN:VEVENT
DTSTART:20141010T220000Z
DTEND:20141011T020000Z
X-MICROSOFT-CDO-ALLDAYEVENT:FALSE
SUMMARY:Mickman Brothers' Pink Pumpkin Promenade
DESCRIPTION:Mickman Brothers is hosting their 2nd annual event with fun\, entertainment\, food\, refreshments and prizes to raise money for HOPE 4 Youth and Pay it Forward Fund. Business casual attire or poodle skirts encouraged!
X-ALT-DESC;FMTTYPE=text/html:<span style="font-family: &quot\;Calibri&quot\;\,&quot\;sans-serif&quot\;\; font-size: 12pt\; mso-fareast-font-family: Calibri\; mso-fareast-theme-font: minor-latin\; mso-bidi-font-family: &quot\;Times New Roman&quot\;\; mso-ansi-language: EN-US\; mso-fareast-language: EN-US\; mso-bidi-language: AR-SA\;"><v:shape alt="" id="_x0000_i1025" style="width: 487.5pt\; height: 630.75pt\;" type="#_x0000_t75"><font color="#000000"><v:imagedata o:href="cid:2994516360-1" src="file:///C:\\Users\\lori\\AppData\\Local\\Temp\\msohtmlclip1\\01\\clip_image001.jpg">Mickman Brothers is hosting their 2nd annual event with fun\, entertainment\, food\, refreshments and prizes to raise money for HOPE 4 Youth and Pay it Forward Fund. Business casual attire or poodle skirts encouraged! </v:imagedata></font></v:shape></span>
LOCATION:Mickman Brothers\, 14630 Hwy 65\, Ham Lake.
UID:e.380.151638
SEQUENCE:3
DTSTAMP:20260423T192947Z
URL:http://members.metronorthchamber.org/events/details/mickman-brothers-pink-pumpkin-promenade-10-10-2014-151638
END:VEVENT

END:VCALENDAR
