BEGIN:VCALENDAR
VERSION:2.0
PRODID:-//ChamberMaster//Event Calendar 2.0//EN
METHOD:PUBLISH
X-PUBLISHED-TTL:P3D
REFRESH-INTERVAL:P3D
CALSCALE:GREGORIAN
BEGIN:VEVENT
DTSTART:20190131T224500Z
DTEND:20190201T004500Z
X-MICROSOFT-CDO-ALLDAYEVENT:FALSE
SUMMARY:MetroNorth Legislative Reception
DESCRIPTION:The MetroNorth Legislative Reception is one of our signature events\, whereby business and community leaders can discuss the 2019 Session with north metro elected officials. \n\nThank you sponsors Comcast and SPAAR.
X-ALT-DESC;FMTTYPE=text/html:The MetroNorth Legislative Reception is one of our signature events\, whereby business and community leaders can discuss the 2019 Session with north metro elected officials.&nbsp\;<br />\nThank you sponsors Comcast and SPAAR.&nbsp\;
LOCATION:Courtyards of Andover 13545 Martin Street Andover\, MN 55304
UID:e.380.187878
SEQUENCE:3
DTSTAMP:20260420T103651Z
URL:http://members.metronorthchamber.org/events/details/metronorth-legislative-reception-187878
END:VEVENT

END:VCALENDAR
