BEGIN:VCALENDAR
VERSION:2.0
PRODID:-//ChamberMaster//Event Calendar 2.0//EN
METHOD:PUBLISH
X-PUBLISHED-TTL:P3D
REFRESH-INTERVAL:P3D
CALSCALE:GREGORIAN
BEGIN:VEVENT
DTSTART:20150304T190000Z
DTEND:20150304T203000Z
X-MICROSOFT-CDO-ALLDAYEVENT:FALSE
SUMMARY:MetroNorth Executive Committee Meeting
DESCRIPTION:
X-ALT-DESC;FMTTYPE=text/html:
LOCATION:
UID:e.380.150089
SEQUENCE:3
DTSTAMP:20260423T111945Z
URL:http://members.metronorthchamber.org/events/details/metronorth-executive-committee-meeting-03-04-2015-150089
END:VEVENT

END:VCALENDAR
