BEGIN:VCALENDAR
VERSION:2.0
PRODID:-//ChamberMaster//Event Calendar 2.0//EN
METHOD:PUBLISH
X-PUBLISHED-TTL:P3D
REFRESH-INTERVAL:P3D
CALSCALE:GREGORIAN
BEGIN:VEVENT
DTSTART:20130926T130000Z
DTEND:20130926T140000Z
X-MICROSOFT-CDO-ALLDAYEVENT:FALSE
SUMMARY:MetroNorth 'Coffee with Coon Rapids'
DESCRIPTION:We will hear a general update from city manager Steve Gatlin. (Other city officials may be in attendance\, schedules permitting.) There will also be time for Q&A should you have a particular issue/concern you'd like to discuss.\n\n \n\nThis is a good opportunity to meet other business owners in Coon Rapids as well as develop relationships with key city personnel.
X-ALT-DESC;FMTTYPE=text/html:<span style="font-size:12px\;"><span style="font-family: tahoma\;">We will hear a general update from city manager Steve Gatlin. (Other city officials may be in attendance\, schedules permitting.) There will also be time for Q&amp\;A should you have a particular issue/concern you&rsquo\;d like to discuss.<br />\n&nbsp\;<br />\nThis is a good opportunity to meet other business owners in Coon Rapids as well as develop relationships with key city personnel.</span></span>
LOCATION:Coon Rapids City Hall
UID:e.380.148186
SEQUENCE:3
DTSTAMP:20260424T161749Z
URL:http://members.metronorthchamber.org/events/details/metronorth-coffee-with-coon-rapids-09-26-2013-148186
END:VEVENT

END:VCALENDAR
