BEGIN:VCALENDAR
VERSION:2.0
PRODID:-//ChamberMaster//Event Calendar 2.0//EN
METHOD:PUBLISH
X-PUBLISHED-TTL:P3D
REFRESH-INTERVAL:P3D
CALSCALE:GREGORIAN
BEGIN:VEVENT
DTSTART;VALUE=DATE:20120528
DTEND;VALUE=DATE:20120529
TRANSP:TRANSPARENT
X-MICROSOFT-CDO-ALLDAYEVENT:TRUE
SUMMARY:Memorial Day - Closed
DESCRIPTION:MetroNorth Chamber Office will be closed in observance of Memorial Day.  Please have a happy and safe holiday weekend!
X-ALT-DESC;FMTTYPE=text/html:MetroNorth Chamber&nbsp\;Office will be closed in observance of Memorial Day.&nbsp\; Please have a happy and safe&nbsp\;holiday weekend!
LOCATION:
UID:e.380.144713
SEQUENCE:3
DTSTAMP:20260425T192449Z
URL:http://members.metronorthchamber.org/events/details/memorial-day-closed-05-28-2012-144713
END:VEVENT

END:VCALENDAR
