BEGIN:VCALENDAR
VERSION:2.0
PRODID:-//ChamberMaster//Event Calendar 2.0//EN
METHOD:PUBLISH
X-PUBLISHED-TTL:P3D
REFRESH-INTERVAL:P3D
CALSCALE:GREGORIAN
BEGIN:VEVENT
DTSTART:20121015T123000Z
DTEND:20121015T140000Z
X-MICROSOFT-CDO-ALLDAYEVENT:FALSE
SUMMARY:Membership Meeting featuring Rep. Michele Bachmann
DESCRIPTION:On Monday Oct 15 our members have the opportunity to hear from Congresswoman Michele Bachmann\, whose district covers most of Anoka County. Rep. Bachmann will provide an update on national issues and other matters important to our local business community.  \n		\n			 \n		\n			The meeting will be at 8 am at Connexus Energy in Ramsey with light refreshments provided. There is NO COST for MetroNorth members to attend\; however\, an RSVP is required. (Not-yet members may attend for $19\, an RSVP is also required.)  SEATING IS LIMITED - RSVP ASAP!  \n	\n	Click here to edit...
X-ALT-DESC;FMTTYPE=text/html:<div style="color: gray">\n	<div>\n		<div>\n			<span style="font-size: 9pt"><span>On Monday Oct 15 our members have the opportunity to hear from Congresswoman Michele Bachmann\, whose district covers most of Anoka County. Rep. Bachmann will provide an update on national issues and other matters important to our local business community.&nbsp\;&nbsp\;</span></span></div>\n		<div>\n			<span style="font-size: 9pt"><span>&nbsp\;</span></span></div>\n		<div>\n			<span style="font-size: 9pt"><span>The meeting will be at 8 am at Connexus Energy in Ramsey with light refreshments provided. </span><span>There is <strong>NO&nbsp\;COST&nbsp\;</strong>for MetroNorth members to attend\; however\, an <strong><a href="mailto:teresa@metronorthchamber.org" linktype="2" shape="rect" style="color: blue\; text-decoration: underline" target="_blank" title="blocked::mailto:teresa@metronorthchamber.org">RSVP </a>is required</strong>. (Not-yet members may attend for $19\, an RSVP is also required.) </span><span>&nbsp\;SEATING IS LIMITED - <a href="mailto:teresa@metronorthchamber.org" linktype="2" shape="rect" style="color: blue\; text-decoration: underline" target="_blank" title="blocked::mailto:teresa@metronorthchamber.org">RSVP </a>ASAP! <span _fck_bookmark="1" style="display: none">&nbsp\;</span></span></span></div>\n	</div>\n	Click here to edit...</div>\n
LOCATION:Connexus Energy 14601 Ramsey Blvd. Ramsey\, MN 55303
UID:e.380.146681
SEQUENCE:3
DTSTAMP:20260425T111319Z
URL:http://members.metronorthchamber.org/events/details/membership-meeting-featuring-rep-michele-bachmann-10-15-2012-146681
END:VEVENT

END:VCALENDAR
