BEGIN:VCALENDAR
VERSION:2.0
PRODID:-//ChamberMaster//Event Calendar 2.0//EN
METHOD:PUBLISH
X-PUBLISHED-TTL:P3D
REFRESH-INTERVAL:P3D
CALSCALE:GREGORIAN
BEGIN:VEVENT
DTSTART:20170713T163000Z
DTEND:20170713T180000Z
X-MICROSOFT-CDO-ALLDAYEVENT:FALSE
SUMMARY:The Champion's Code
DESCRIPTION:The best-selling author of nearly FIFTY sports books\, Ross Bernstein is an award-winning\, Hall of Fame\, peak-performance business speaker who's keynoted conferences for Fortune 500 companies on five continents and has been featured on thousands of television and radio programs including: CNN\, "CBS-This-Morning\," ESPN\, and Fox News\, as well as in the Wall Street Journal\, New York Times and USA Today. He's spent the better part of the past 20 years studying the DNA of championship teams and his mission is to get us thinking differently about what it's going to take to raise our games to the next level.
X-ALT-DESC;FMTTYPE=text/html:The best-selling author of nearly FIFTY sports books\, Ross Bernstein is an award-winning\, Hall of Fame\, peak-performance business speaker who&rsquo\;s keynoted conferences for Fortune 500 companies on five continents and has been featured on thousands of television and radio programs including: CNN\, &ldquo\;CBS-This-Morning\,&rdquo\; ESPN\, and Fox News\, as well as in the Wall Street Journal\, New York Times and USA Today. He&rsquo\;s spent the better part of the past 20 years studying the DNA of championship teams and his mission is to get us thinking differently about what it&rsquo\;s going to take to raise our games to the next level.
LOCATION:The Mermaid 2200 Mounds View Boulevard Mounds View 55112
UID:e.380.171735
SEQUENCE:3
DTSTAMP:20260421T134923Z
URL:http://members.metronorthchamber.org/events/details/membership-luncheon-171735
END:VEVENT

END:VCALENDAR
