BEGIN:VCALENDAR
VERSION:2.0
PRODID:-//ChamberMaster//Event Calendar 2.0//EN
METHOD:PUBLISH
X-PUBLISHED-TTL:P3D
REFRESH-INTERVAL:P3D
CALSCALE:GREGORIAN
BEGIN:VEVENT
DTSTART:20140820T213000Z
DTEND:20140820T233000Z
X-MICROSOFT-CDO-ALLDAYEVENT:FALSE
SUMMARY:Membership Appreciation Party hosted by your Board of Directors
DESCRIPTION:Mix\, mingle & meet the MetroNorth Board of Directors! Make connections as you enjoy viewing the beautiful paintings on display at the historic Banfill-Locke Center for the Arts. Hors d'oeuvres & libations will be served.
X-ALT-DESC;FMTTYPE=text/html:Mix\, mingle &amp\; meet the MetroNorth Board of Directors! Make connections as you enjoy viewing the beautiful paintings on display at the historic Banfill-Locke Center for the Arts. Hors d&#39\;oeuvres &amp\; libations will be served.
LOCATION:Banfill-Locke Center for the Arts 6666 East River Rd Fridley\, MN 55432
UID:e.380.151462
SEQUENCE:3
DTSTAMP:20260423T222523Z
URL:http://members.metronorthchamber.org/events/details/membership-appreciation-party-hosted-by-your-board-of-directors-08-20-2014-151462
END:VEVENT

END:VCALENDAR
