BEGIN:VCALENDAR
VERSION:2.0
PRODID:-//ChamberMaster//Event Calendar 2.0//EN
METHOD:PUBLISH
X-PUBLISHED-TTL:P3D
REFRESH-INTERVAL:P3D
CALSCALE:GREGORIAN
BEGIN:VEVENT
DTSTART:20160831T214500Z
DTEND:20160831T234500Z
X-MICROSOFT-CDO-ALLDAYEVENT:FALSE
SUMMARY:Membership Appreciation Party
DESCRIPTION:Because a written thank you just isn't enough\, we want to have a party in YOUR honor to show how much we appreciate you! Join us on Wednesday\, August 31\, from 4:45-6:45 pm for food\, drink and frivolity in the beautiful Riedel Farmhouse. We've reserved the entire estate for our party\; their beautifully restored farmhouse\, gazebo and grounds will be the perfect venue for this after-hours celebration. RSVP required.
X-ALT-DESC;FMTTYPE=text/html:Because a written thank you just isn&#39\;t enough\, we want to have a party in YOUR honor to show how much we appreciate you! Join us on Wednesday\, August 31\, from 4:45-6:45 pm for food\, drink and frivolity in the beautiful Riedel Farmhouse. We&#39\;ve reserved the entire estate for our party\; their beautifully restored farmhouse\, gazebo and grounds will be the perfect venue for this after-hours celebration. RSVP required.
LOCATION:Riedel Farmhouse 5100 East River Road Fridley
UID:e.380.168892
SEQUENCE:3
DTSTAMP:20260422T070403Z
URL:http://members.metronorthchamber.org/events/details/membership-appreciation-party-08-31-2016-168892
END:VEVENT

END:VCALENDAR
