BEGIN:VCALENDAR
VERSION:2.0
PRODID:-//ChamberMaster//Event Calendar 2.0//EN
METHOD:PUBLISH
X-PUBLISHED-TTL:P3D
REFRESH-INTERVAL:P3D
CALSCALE:GREGORIAN
BEGIN:VEVENT
DTSTART:20150818T214500Z
DTEND:20150818T233000Z
X-MICROSOFT-CDO-ALLDAYEVENT:FALSE
SUMMARY:Membership Appreciation Party
DESCRIPTION:We would not be the strong\, successful business organization we are without you and want to celebrate our partnership! Meet your chamber team and Board of Directors while making new connections and enjoying complementary appetizers and libations. While there\, you'll be able to view and tour various aircraft.  Even better we're drawing three lucky winners to FLY in an aircraft that same evening!
X-ALT-DESC;FMTTYPE=text/html:<span style="language:en-US\;"><span style="font-family:arial\;">We would not be the strong\, successful business organization we are without you and want to celebrate our partnership! Meet your chamber team and Board of Directors while making new connections and enjoying complementary appetizers and libations. While there\, you&rsquo\;ll be able to view and tour various aircraft.&nbsp\; Even better&hellip\;we&rsquo\;re drawing three lucky winners to FLY in an aircraft that same evening! &nbsp\;</span></span>
LOCATION:Key Air Twin Cities Anoka County Airport\, Blaine
UID:e.380.157878
SEQUENCE:3
DTSTAMP:20260423T043054Z
URL:http://members.metronorthchamber.org/events/details/membership-appreciation-party-08-18-2015-157878
END:VEVENT

END:VCALENDAR
