BEGIN:VCALENDAR
VERSION:2.0
PRODID:-//ChamberMaster//Event Calendar 2.0//EN
METHOD:PUBLISH
X-PUBLISHED-TTL:P3D
REFRESH-INTERVAL:P3D
CALSCALE:GREGORIAN
BEGIN:VEVENT
DTSTART:20180823T214500Z
DTEND:20180823T234500Z
X-MICROSOFT-CDO-ALLDAYEVENT:FALSE
SUMMARY:Member Appreciation Party
DESCRIPTION:It's a party in YOUR honor to show how much we appreciate you! Complimentary access to the putting green & driving range. Appetizers & craft beer tasting. Door prizes.
X-ALT-DESC;FMTTYPE=text/html:<span style="font-size:16px\;"><span style="font-family:arial\;">It&#39\;s a party in YOUR honor to show how much we appreciate you! Complimentary access to the putting green &amp\; driving range. Appetizers &amp\; craft beer tasting. Door prizes.&nbsp\;</span></span><br />\n&nbsp\;
LOCATION:National Sports Center/Victory Links Clubhouse 1750 105th Avenue NE Blaine 55449
UID:e.380.185803
SEQUENCE:3
DTSTAMP:20260420T170002Z
URL:http://members.metronorthchamber.org/events/details/member-appreciation-party-185803
END:VEVENT

END:VCALENDAR
