BEGIN:VCALENDAR
VERSION:2.0
PRODID:-//ChamberMaster//Event Calendar 2.0//EN
METHOD:PUBLISH
X-PUBLISHED-TTL:P3D
REFRESH-INTERVAL:P3D
CALSCALE:GREGORIAN
BEGIN:VEVENT
DTSTART:20170810T214500Z
DTEND:20170810T234500Z
X-MICROSOFT-CDO-ALLDAYEVENT:FALSE
SUMMARY:Member Appreciation Party
DESCRIPTION:It's a party in YOUR honor to show how much we appreciate you! We have reserved the entire facility for what is sure to be a fun time. Go-kart racing\, food\, beverages\, games - there will be something for everyone! RSVP required\; members only.   \n\n\n\nCatered by Broadway Pizza in Fridley!
X-ALT-DESC;FMTTYPE=text/html:<span style="font-size:16px\;"><span style="font-family:arial\;">It&#39\;s a party in YOUR honor to show how much we appreciate you! We have reserved the entire facility for what is sure to be a fun time. Go-kart racing\, food\, beverages\, games - there will be something for everyone! RSVP required\; members only. &nbsp\;&nbsp\;<br />\n<br />\nCatered by Broadway Pizza in Fridley!</span></span>
LOCATION:MB2 Raceway 45 Northern Stacks Drive NE Fridley
UID:e.380.176428
SEQUENCE:3
DTSTAMP:20260421T110524Z
URL:http://members.metronorthchamber.org/events/details/member-appreciation-party-176428
END:VEVENT

END:VCALENDAR
