BEGIN:VCALENDAR
VERSION:2.0
PRODID:-//ChamberMaster//Event Calendar 2.0//EN
METHOD:PUBLISH
X-PUBLISHED-TTL:P3D
REFRESH-INTERVAL:P3D
CALSCALE:GREGORIAN
BEGIN:VEVENT
DTSTART;VALUE=DATE:20170506
DTEND;VALUE=DATE:20170507
TRANSP:TRANSPARENT
X-MICROSOFT-CDO-ALLDAYEVENT:TRUE
SUMMARY:MEET ELSA & SPIDERMAN
DESCRIPTION:Come meet Elsa & Spiderman and get your face painted or a glitter tattoo.\n\nFollow it up with 18 holes of Blacklight Mini Golf.\n\n\n\n*Tickets include\n\n18 holes Blacklight Mini Golf\n\nMeeting Elsa & Spiderman\n\nFace Painting or Glitter Tattoo\n\nCookie & Water
X-ALT-DESC;FMTTYPE=text/html:<strong>Come meet Elsa &amp\; Spiderman and get your face painted or a glitter tattoo.<br />\nFollow it up with 18 holes of Blacklight Mini Golf.</strong><br />\n<br />\n*Tickets include<br />\n18 holes Blacklight Mini Golf<br />\nMeeting Elsa &amp\; Spiderman<br />\nFace Painting or Glitter Tattoo<br />\nCookie &amp\; Water
LOCATION:Glow in One Mini Golf 12579 Central Ave NE Blaine\, MN 55449
UID:e.380.173380
SEQUENCE:3
DTSTAMP:20260421T170335Z
URL:http://members.metronorthchamber.org/events/details/meet-elsa-spiderman-173380
END:VEVENT

END:VCALENDAR
