BEGIN:VCALENDAR
VERSION:2.0
PRODID:-//ChamberMaster//Event Calendar 2.0//EN
METHOD:PUBLISH
X-PUBLISHED-TTL:P3D
REFRESH-INTERVAL:P3D
CALSCALE:GREGORIAN
BEGIN:VEVENT
DTSTART:20161118T170000Z
DTEND:20161118T180000Z
X-MICROSOFT-CDO-ALLDAYEVENT:FALSE
SUMMARY:CYBERSECURITY MEET AND GEEK
DESCRIPTION:We all have questions we want to ask a geek\, but who wants to approach one out in the wild? That's why we created meet and geek.\n\nJoin us for a FREE CyberSecurity Awareness Meet and Geek. Our\n\nCertified Ethical Hacker will lead the presentation and show you how\n\nto make dramatic improvements in network security instantly.\n It's a non-threatening way for you to mingle with a flock of geeks on their own turf where they are less likely to become clingy or domineering. Here\, you can actually approach a geek with an IT question and get expert advice and insights. And best of all\, these are executive level geeks who have been highly socialized\, so you don't have to worry about hurting their geeky little feelings if you turn your attention to a different geek. It's kind of a geek-for-all for normal people with IT questions or concerns.\n\nSometimes\, the best time to socialize with a geek is when they are eating.  So we will be serving food at every meet and geek gathering. However\, we will forego the traditional geek diet of Cheetos and Pepsi and bring in real food from local restaurants.\n\n \nFridays from 11:00 am to Noon at our Woodbury location.\n\nReserve your spot now! Questions call 651.255.5780
X-ALT-DESC;FMTTYPE=text/html:<div>We all have questions we want to ask a geek\, but who wants to approach one out in the wild? That&rsquo\;s why we created&nbsp\;<span style="color:rgb(61\, 72\, 116)"><strong>meet&nbsp\;and geek</strong></span>.\n\n<p style="text-align:center"><strong>Join us for a FREE CyberSecurity Awareness Meet and Geek. Our<br />\nCertified Ethical Hacker will lead the presentation and show you how<br />\nto make dramatic improvements in network security instantly.</strong></p>\n&nbsp\;It&rsquo\;s a non-threatening way for you to mingle with a flock of geeks on their own turf where they are less likely to become clingy or domineering. Here\, you can actually approach a geek with an IT question and get expert advice and insights. And best of all\, these are executive level geeks who have been highly socialized\, so you don&rsquo\;t have to worry about hurting their geeky little feelings if you turn your attention to a different geek. It&rsquo\;s kind of a geek-for-all for normal people with IT questions or concerns.</div>\n\n<p>Sometimes\, the best time to socialize with a geek is when they are eating.&nbsp\; So we will be serving food at every&nbsp\;<span style="color:rgb(61\, 72\, 116)"><strong>meet and&nbsp\;geek</strong></span>&nbsp\;gathering. However\, we will forego the traditional geek diet of Cheetos and Pepsi and bring in real food from local restaurants.</p>\n\n<p style="text-align:center">&nbsp\;</p>\nFridays from 11:00 am to Noon at our Woodbury location.<br />\nReserve your spot now! Questions call 651.255.5780\n<div>\n<div>&nbsp\;</div>\n</div>\n
LOCATION:2375 Ventura Drive Woodbury\, MN 55125
UID:e.380.169181
SEQUENCE:3
DTSTAMP:20260422T015719Z
URL:http://members.metronorthchamber.org/events/details/meet-and-geek-11-18-2016-169181
END:VEVENT

END:VCALENDAR
