BEGIN:VCALENDAR
VERSION:2.0
PRODID:-//ChamberMaster//Event Calendar 2.0//EN
METHOD:PUBLISH
X-PUBLISHED-TTL:P3D
REFRESH-INTERVAL:P3D
CALSCALE:GREGORIAN
BEGIN:VEVENT
DTSTART:20180918T220000Z
DTEND:20180918T233000Z
X-MICROSOFT-CDO-ALLDAYEVENT:FALSE
SUMMARY:Meat Raffle Returns
DESCRIPTION:Meat Raffle Returns! And not just a just for traditional meat-we are raffling extraordinary meat! Donated by Mr. Darcy's Cows\, this premium quality\, pasture-raised and corn finished beef is exceptional! The cows are fed Mr. Darcy's own alfalfa during the winter\, as well as non-GMO corn to enhance marbling and flavor. Weather permitting\, the animals are outside on pasture. Check out Mr. Darcy's Cows website for more information.\n\n \n\nProceeds from the meat raffle\, conducted by the Spring Lake Park Lions\, will be donated to the MetroNorth Workforce Development Foundation\, which provides scholarships to local high school students.\n\n \n\nIncluded with your admission ticket are appetizers\, networking and door prizes. Meat raffle tickets not included.
X-ALT-DESC;FMTTYPE=text/html:Meat Raffle Returns! And not just a just for traditional meat-we are raffling extraordinary meat! Donated by Mr. Darcy&rsquo\;s Cows\, this premium quality\, pasture-raised and corn finished beef is exceptional! The cows are fed Mr. Darcy&#39\;s own alfalfa during the winter\, as well as non-GMO corn to enhance marbling and flavor. Weather permitting\, the animals are outside on pasture. Check out <strong><a href="https://www.mrdarcyscows.com/"><span style="color:#B22222\;">Mr. Darcy&#39\;s Cows website</span></a> </strong>for more information.<br />\n&nbsp\;<br />\nProceeds from the meat raffle\, conducted by the Spring Lake Park Lions\, will be donated to the MetroNorth <strong><a href="http://metronorthworkforce.org/"><span style="color:#B22222\;">Workforce Development Foundation</span></a></strong>\, which provides scholarships to local high school students.<br />\n&nbsp\;<br />\nIncluded with your admission ticket are appetizers\, networking and door prizes. Meat raffle tickets not included. &nbsp\;
LOCATION:Sunset Grill 8466 Highway 65 Spring Lake Park 55432
UID:e.380.185775
SEQUENCE:3
DTSTAMP:20260420T152037Z
URL:http://members.metronorthchamber.org/events/details/meat-raffle-returns-185775
END:VEVENT

END:VCALENDAR
