BEGIN:VCALENDAR
VERSION:2.0
PRODID:-//ChamberMaster//Event Calendar 2.0//EN
METHOD:PUBLISH
X-PUBLISHED-TTL:P3D
REFRESH-INTERVAL:P3D
CALSCALE:GREGORIAN
BEGIN:VEVENT
DTSTART:20170827T010000Z
DTEND:20170827T050000Z
X-MICROSOFT-CDO-ALLDAYEVENT:FALSE
SUMMARY:Mayweather/McGregor Fight
DESCRIPTION:Buffalo Wild Wings Blaine is showing the Mayweather/McGregor fight on Saturday August 26th. There is a $20 cover charge and the fight starts at 8pm.
X-ALT-DESC;FMTTYPE=text/html:Buffalo Wild Wings Blaine is showing the Mayweather/McGregor fight on Saturday August 26th. There is a $20 cover charge and the fight starts at 8pm.
LOCATION:Buffalo Wild Wings 1520 109th Ave NE Suite 300 Blaine\, MN 55449
UID:e.380.176493
SEQUENCE:3
DTSTAMP:20260421T121300Z
URL:http://members.metronorthchamber.org/events/details/mayweather-mcgregor-fight-176493
END:VEVENT

END:VCALENDAR
